BEGIN:VCALENDAR
VERSION:2.0
PRODID:-//Plone.org//NONSGML plone.app.event//EN
X-WR-TIMEZONE:Europe/Madrid
BEGIN:VEVENT
SUMMARY:Reunió interna
DTSTART;TZID=Europe/Madrid;VALUE=DATE-TIME:20200421T110000
DTEND;TZID=Europe/Madrid;VALUE=DATE-TIME:20200421T120000
DTSTAMP;VALUE=DATE-TIME:20260420T032736Z
UID:829b750246f75edf9488f32693ad9c12
CREATED;VALUE=DATE-TIME:20200421T000000Z
CATEGORIES:Agenda institucional
URL:https://www.canetdemar.cat/document.php?id=20154
END:VEVENT
END:VCALENDAR