BEGIN:VCALENDAR
VERSION:2.0
PRODID:-//Plone.org//NONSGML plone.app.event//EN
X-WR-TIMEZONE:Europe/Madrid
BEGIN:VEVENT
SUMMARY:Reunió interna
DTSTART;TZID=Europe/Madrid;VALUE=DATE-TIME:20200414T110000
DTEND;TZID=Europe/Madrid;VALUE=DATE-TIME:20200414T120000
DTSTAMP;VALUE=DATE-TIME:20260425T020823Z
UID:b0a5387779f4158e3619fdf0bfd75f21
CREATED;VALUE=DATE-TIME:20200414T000000Z
CATEGORIES:Agenda institucional
URL:https://www.canetdemar.cat/document.php?id=20153
END:VEVENT
END:VCALENDAR