BEGIN:VCALENDAR
VERSION:2.0
PRODID:-//Plone.org//NONSGML plone.app.event//EN
X-WR-TIMEZONE:Europe/Madrid
BEGIN:VEVENT
SUMMARY:Reunió de seguiment amb les àrees d'Esports i la brigada d'obres i serveis
DTSTART;TZID=Europe/Madrid;VALUE=DATE-TIME:20200428T100000
DTEND;TZID=Europe/Madrid;VALUE=DATE-TIME:20200428T110000
DTSTAMP;VALUE=DATE-TIME:20260420T095548Z
UID:ac0d27c2cfc2f27e2b15a97e3e4ec942
CREATED;VALUE=DATE-TIME:20200428T000000Z
CATEGORIES:Agenda institucional
URL:https://www.canetdemar.cat/document.php?id=20151
END:VEVENT
END:VCALENDAR