BEGIN:VCALENDAR
VERSION:2.0
PRODID:-//Plone.org//NONSGML plone.app.event//EN
X-WR-TIMEZONE:Europe/Madrid
BEGIN:VEVENT
SUMMARY:Reunió de seguiment amb les àrees d'Esports i la brigada d'obres i serveis
DTSTART;TZID=Europe/Madrid;VALUE=DATE-TIME:20200421T100000
DTEND;TZID=Europe/Madrid;VALUE=DATE-TIME:20200421T110000
DTSTAMP;VALUE=DATE-TIME:20260420T015240Z
UID:a09e6ec0bfe6f15c2a7277babe083b01
CREATED;VALUE=DATE-TIME:20200421T000000Z
CATEGORIES:Agenda institucional
URL:https://www.canetdemar.cat/document.php?id=20150
END:VEVENT
END:VCALENDAR