BEGIN:VCALENDAR
VERSION:2.0
PRODID:-//Plone.org//NONSGML plone.app.event//EN
X-WR-TIMEZONE:Europe/Madrid
BEGIN:VEVENT
SUMMARY:Reunió de seguiment amb les àrees d'Esports i la brigada d'obres i serveis
DTSTART;TZID=Europe/Madrid;VALUE=DATE-TIME:20200414T100000
DTEND;TZID=Europe/Madrid;VALUE=DATE-TIME:20200414T110000
DTSTAMP;VALUE=DATE-TIME:20260421T210237Z
UID:13ba85ddabf78a9991e784bc2465eafc
CREATED;VALUE=DATE-TIME:20200414T000000Z
CATEGORIES:Agenda institucional
URL:https://www.canetdemar.cat/document.php?id=20149
END:VEVENT
END:VCALENDAR