BEGIN:VCALENDAR
VERSION:2.0
PRODID:-//Plone.org//NONSGML plone.app.event//EN
X-WR-TIMEZONE:Europe/Madrid
BEGIN:VEVENT
SUMMARY:Reunió de seguiment amb les àrees d'Esports i la brigada d'obres i serveis
DTSTART;TZID=Europe/Madrid;VALUE=DATE-TIME:20200407T100000
DTEND;TZID=Europe/Madrid;VALUE=DATE-TIME:20200407T110000
DTSTAMP;VALUE=DATE-TIME:20260422T220402Z
UID:c788bb635d1a02f91dfe36abc6fb2a69
CREATED;VALUE=DATE-TIME:20200407T000000Z
CATEGORIES:Agenda institucional
URL:https://www.canetdemar.cat/document.php?id=20148
END:VEVENT
END:VCALENDAR