BEGIN:VCALENDAR
VERSION:2.0
PRODID:-//Plone.org//NONSGML plone.app.event//EN
X-WR-TIMEZONE:Europe/Madrid
BEGIN:VEVENT
SUMMARY:Reunió de seguiment amb l'àrea d'Urbanisme
DTSTART;TZID=Europe/Madrid;VALUE=DATE-TIME:20200427T113000
DTEND;TZID=Europe/Madrid;VALUE=DATE-TIME:20200427T123000
DTSTAMP;VALUE=DATE-TIME:20260420T064112Z
UID:dced6f9e94176c710428b822725cf886
CREATED;VALUE=DATE-TIME:20200427T000000Z
CATEGORIES:Agenda institucional
URL:https://www.canetdemar.cat/document.php?id=20147
END:VEVENT
END:VCALENDAR