BEGIN:VCALENDAR
VERSION:2.0
PRODID:-//Plone.org//NONSGML plone.app.event//EN
X-WR-TIMEZONE:Europe/Madrid
BEGIN:VEVENT
SUMMARY:Reunió de seguiment amb les àrees de Festes i Joventut
DTSTART;TZID=Europe/Madrid;VALUE=DATE-TIME:20200427T103000
DTEND;TZID=Europe/Madrid;VALUE=DATE-TIME:20200427T113000
DTSTAMP;VALUE=DATE-TIME:20260420T063917Z
UID:623b0487a7431aaa02e72d24552a51c0
CREATED;VALUE=DATE-TIME:20200427T000000Z
CATEGORIES:Agenda institucional
URL:https://www.canetdemar.cat/document.php?id=20144
END:VEVENT
END:VCALENDAR