BEGIN:VCALENDAR
VERSION:2.0
PRODID:-//Plone.org//NONSGML plone.app.event//EN
X-WR-TIMEZONE:Europe/Madrid
BEGIN:VEVENT
SUMMARY:Reunió de seguiment amb les àrees de Festes i Joventut
DTSTART;TZID=Europe/Madrid;VALUE=DATE-TIME:20200420T103000
DTEND;TZID=Europe/Madrid;VALUE=DATE-TIME:20200420T113000
DTSTAMP;VALUE=DATE-TIME:20260423T234014Z
UID:c37116ecf2c4db49e1b72223f0d1d15f
CREATED;VALUE=DATE-TIME:20200420T000000Z
CATEGORIES:Agenda institucional
URL:https://www.canetdemar.cat/document.php?id=20143
END:VEVENT
END:VCALENDAR