BEGIN:VCALENDAR
VERSION:2.0
PRODID:-//Plone.org//NONSGML plone.app.event//EN
X-WR-TIMEZONE:Europe/Madrid
BEGIN:VEVENT
SUMMARY:Reunió de seguiment amb les àrees d'Educació, Participació i Igualtat
DTSTART;TZID=Europe/Madrid;VALUE=DATE-TIME:20200427T100000
DTEND;TZID=Europe/Madrid;VALUE=DATE-TIME:20200427T110000
DTSTAMP;VALUE=DATE-TIME:20260420T095424Z
UID:71a652e803caf26b3021f0f48d006d1f
CREATED;VALUE=DATE-TIME:20200427T000000Z
CATEGORIES:Agenda institucional
URL:https://www.canetdemar.cat/document.php?id=20141
END:VEVENT
END:VCALENDAR