BEGIN:VCALENDAR
VERSION:2.0
PRODID:-//Plone.org//NONSGML plone.app.event//EN
X-WR-TIMEZONE:Europe/Madrid
BEGIN:VEVENT
SUMMARY:Reunió de seguiment amb les àrees d'Educació, Participació i Igualtat
DTSTART;TZID=Europe/Madrid;VALUE=DATE-TIME:20200420T100000
DTEND;TZID=Europe/Madrid;VALUE=DATE-TIME:20200420T110000
DTSTAMP;VALUE=DATE-TIME:20260424T162125Z
UID:a096d473ad6074659ab317bbdee1a617
CREATED;VALUE=DATE-TIME:20200420T000000Z
CATEGORIES:Agenda institucional
URL:https://www.canetdemar.cat/document.php?id=20140
END:VEVENT
END:VCALENDAR