BEGIN:VCALENDAR
VERSION:2.0
PRODID:-//Plone.org//NONSGML plone.app.event//EN
X-WR-TIMEZONE:Europe/Madrid
BEGIN:VEVENT
SUMMARY:Reunió amb l'equip de govern
DTSTART;TZID=Europe/Madrid;VALUE=DATE-TIME:20200427T170000
DTEND;TZID=Europe/Madrid;VALUE=DATE-TIME:20200427T180000
DTSTAMP;VALUE=DATE-TIME:20260420T095501Z
UID:2602179e6310fd7f67c87a78a9854d42
CREATED;VALUE=DATE-TIME:20200427T000000Z
CATEGORIES:Agenda institucional
URL:https://www.canetdemar.cat/document.php?id=20138
END:VEVENT
END:VCALENDAR