BEGIN:VCALENDAR
VERSION:2.0
PRODID:-//Plone.org//NONSGML plone.app.event//EN
X-WR-TIMEZONE:Europe/Madrid
BEGIN:VEVENT
SUMMARY:Reunió amb l'equip de govern
DTSTART;TZID=Europe/Madrid;VALUE=DATE-TIME:20200420T170000
DTEND;TZID=Europe/Madrid;VALUE=DATE-TIME:20200420T180000
DTSTAMP;VALUE=DATE-TIME:20260424T085246Z
UID:3556b77e96792071ccf53b9a2a23e61b
CREATED;VALUE=DATE-TIME:20200420T000000Z
CATEGORIES:Agenda institucional
URL:https://www.canetdemar.cat/document.php?id=20137
END:VEVENT
END:VCALENDAR