BEGIN:VCALENDAR
VERSION:2.0
PRODID:-//Plone.org//NONSGML plone.app.event//EN
X-WR-TIMEZONE:Europe/Madrid
BEGIN:VEVENT
SUMMARY:Reunió del Patronat de la Residència Guillem Mas
DTSTART;TZID=Europe/Madrid;VALUE=DATE-TIME:20200424T080000
DTEND;TZID=Europe/Madrid;VALUE=DATE-TIME:20200424T090000
DTSTAMP;VALUE=DATE-TIME:20260420T064014Z
UID:4ea49e8ea78a76c66af1424b2cc6f091
CREATED;VALUE=DATE-TIME:20200424T000000Z
CATEGORIES:Agenda institucional
URL:https://www.canetdemar.cat/document.php?id=20135
END:VEVENT
END:VCALENDAR