BEGIN:VCALENDAR
VERSION:2.0
PRODID:-//Plone.org//NONSGML plone.app.event//EN
X-WR-TIMEZONE:Europe/Madrid
BEGIN:VEVENT
SUMMARY:Reunió de seguiment amb l'àrea de Promoció Econòmica
DTSTART;TZID=Europe/Madrid;VALUE=DATE-TIME:20200423T113000
DTEND;TZID=Europe/Madrid;VALUE=DATE-TIME:20200423T123000
DTSTAMP;VALUE=DATE-TIME:20260420T064353Z
UID:30f62cca679cd8a86710f3c607132cf2
CREATED;VALUE=DATE-TIME:20200423T000000Z
CATEGORIES:Agenda institucional
URL:https://www.canetdemar.cat/document.php?id=20130
END:VEVENT
END:VCALENDAR