BEGIN:VCALENDAR
VERSION:2.0
PRODID:-//Plone.org//NONSGML plone.app.event//EN
X-WR-TIMEZONE:Europe/Madrid
BEGIN:VEVENT
SUMMARY:Reunió de seguiment amb les àrees de Sanitat i Medi Ambient
DTSTART;TZID=Europe/Madrid;VALUE=DATE-TIME:20200430T103000
DTEND;TZID=Europe/Madrid;VALUE=DATE-TIME:20200430T113000
DTSTAMP;VALUE=DATE-TIME:20260426T014103Z
UID:ff2c47c3bbfdd22fe8fca4f760a5ad00
CREATED;VALUE=DATE-TIME:20200430T000000Z
CATEGORIES:Agenda institucional
URL:https://www.canetdemar.cat/document.php?id=20126
END:VEVENT
END:VCALENDAR