BEGIN:VCALENDAR
VERSION:2.0
PRODID:-//Plone.org//NONSGML plone.app.event//EN
X-WR-TIMEZONE:Europe/Madrid
BEGIN:VEVENT
SUMMARY:Reunió de seguiment amb les àrees de Sanitat i Medi Ambient
DTSTART;TZID=Europe/Madrid;VALUE=DATE-TIME:20200423T103000
DTEND;TZID=Europe/Madrid;VALUE=DATE-TIME:20200423T113000
DTSTAMP;VALUE=DATE-TIME:20260420T020403Z
UID:fa760c3eaeafbede52503b173df40b2b
CREATED;VALUE=DATE-TIME:20200423T000000Z
CATEGORIES:Agenda institucional
URL:https://www.canetdemar.cat/document.php?id=20125
END:VEVENT
END:VCALENDAR