BEGIN:VCALENDAR
VERSION:2.0
PRODID:-//Plone.org//NONSGML plone.app.event//EN
X-WR-TIMEZONE:Europe/Madrid
BEGIN:VEVENT
SUMMARY:Reunió de seguiment amb les àrees de Sanitat i Medi Ambient
DTSTART;TZID=Europe/Madrid;VALUE=DATE-TIME:20200409T103000
DTEND;TZID=Europe/Madrid;VALUE=DATE-TIME:20200409T113000
DTSTAMP;VALUE=DATE-TIME:20260421T205411Z
UID:2cb358d5b78944bdddd5b72e6be19105
CREATED;VALUE=DATE-TIME:20200409T000000Z
CATEGORIES:Agenda institucional
URL:https://www.canetdemar.cat/document.php?id=20122
END:VEVENT
END:VCALENDAR