BEGIN:VCALENDAR
VERSION:2.0
PRODID:-//Plone.org//NONSGML plone.app.event//EN
X-WR-TIMEZONE:Europe/Madrid
BEGIN:VEVENT
SUMMARY:Reunió del comitè d'emergència DUPROCIM
DTSTART;TZID=Europe/Madrid;VALUE=DATE-TIME:20200417T120000
DTEND;TZID=Europe/Madrid;VALUE=DATE-TIME:20200417T130000
DTSTAMP;VALUE=DATE-TIME:20260422T174552Z
UID:383f547703afe83daa396704f314491f
CREATED;VALUE=DATE-TIME:20200417T000000Z
CATEGORIES:Agenda institucional
URL:https://www.canetdemar.cat/document.php?id=20113
END:VEVENT
END:VCALENDAR