BEGIN:VCALENDAR
VERSION:2.0
PRODID:-//Plone.org//NONSGML plone.app.event//EN
X-WR-TIMEZONE:Europe/Madrid
BEGIN:VEVENT
SUMMARY:Reunió del comitè d'emergència DUPROCIM
DTSTART;TZID=Europe/Madrid;VALUE=DATE-TIME:20200415T120000
DTEND;TZID=Europe/Madrid;VALUE=DATE-TIME:20200415T130000
DTSTAMP;VALUE=DATE-TIME:20260421T155954Z
UID:93d9672e9f21270bca4d869e6decd473
CREATED;VALUE=DATE-TIME:20200415T000000Z
CATEGORIES:Agenda institucional
URL:https://www.canetdemar.cat/document.php?id=20112
END:VEVENT
END:VCALENDAR