BEGIN:VCALENDAR
VERSION:2.0
PRODID:-//Plone.org//NONSGML plone.app.event//EN
X-WR-TIMEZONE:Europe/Madrid
BEGIN:VEVENT
SUMMARY:Reunió del comitè d'emergència DUPROCIM
DTSTART;TZID=Europe/Madrid;VALUE=DATE-TIME:20200408T120000
DTEND;TZID=Europe/Madrid;VALUE=DATE-TIME:20200408T130000
DTSTAMP;VALUE=DATE-TIME:20260421T130329Z
UID:6344bd89d9adff70014971184128a053
CREATED;VALUE=DATE-TIME:20200408T000000Z
CATEGORIES:Agenda institucional
URL:https://www.canetdemar.cat/document.php?id=20110
END:VEVENT
END:VCALENDAR