BEGIN:VCALENDAR
VERSION:2.0
PRODID:-//Plone.org//NONSGML plone.app.event//EN
X-WR-TIMEZONE:Europe/Madrid
BEGIN:VEVENT
SUMMARY:Reunió de seguiment amb les àrees de Benestar Social i Recursos Humans
DTSTART;TZID=Europe/Madrid;VALUE=DATE-TIME:20200422T113000
DTEND;TZID=Europe/Madrid;VALUE=DATE-TIME:20200422T123000
DTSTAMP;VALUE=DATE-TIME:20260420T032709Z
UID:1d992121a971bf8f1e8d7f060765edd1
CREATED;VALUE=DATE-TIME:20200422T000000Z
CATEGORIES:Agenda institucional
URL:https://www.canetdemar.cat/document.php?id=20105
END:VEVENT
END:VCALENDAR