BEGIN:VCALENDAR
VERSION:2.0
PRODID:-//Plone.org//NONSGML plone.app.event//EN
X-WR-TIMEZONE:Europe/Madrid
BEGIN:VEVENT
SUMMARY:Reunió de seguiment amb les àrees de Benestar Social i Recursos Humans
DTSTART;TZID=Europe/Madrid;VALUE=DATE-TIME:20200415T113000
DTEND;TZID=Europe/Madrid;VALUE=DATE-TIME:20200415T123000
DTSTAMP;VALUE=DATE-TIME:20260423T031807Z
UID:986db195bc5a424a278c3ac8d3a65d75
CREATED;VALUE=DATE-TIME:20200415T000000Z
CATEGORIES:Agenda institucional
URL:https://www.canetdemar.cat/document.php?id=20104
END:VEVENT
END:VCALENDAR