BEGIN:VCALENDAR
VERSION:2.0
PRODID:-//Plone.org//NONSGML plone.app.event//EN
X-WR-TIMEZONE:Europe/Madrid
BEGIN:VEVENT
SUMMARY:Reunió de seguiment amb les àrees de Cultura i hisenda
DTSTART;TZID=Europe/Madrid;VALUE=DATE-TIME:20200422T110000
DTEND;TZID=Europe/Madrid;VALUE=DATE-TIME:20200422T120000
DTSTAMP;VALUE=DATE-TIME:20260420T015227Z
UID:143b9931e74b7da5001f69548ca0f399
CREATED;VALUE=DATE-TIME:20200422T000000Z
CATEGORIES:Agenda institucional
URL:https://www.canetdemar.cat/document.php?id=20100
END:VEVENT
END:VCALENDAR