BEGIN:VCALENDAR
VERSION:2.0
PRODID:-//Plone.org//NONSGML plone.app.event//EN
X-WR-TIMEZONE:Europe/Madrid
BEGIN:VEVENT
SUMMARY:Reunió interna de Comunicació
DTSTART;TZID=Europe/Madrid;VALUE=DATE-TIME:20200429T103000
DTEND;TZID=Europe/Madrid;VALUE=DATE-TIME:20200429T113000
DTSTAMP;VALUE=DATE-TIME:20260423T220745Z
UID:455d9b4a7c4950dea3454788ae64dfb5
CREATED;VALUE=DATE-TIME:20200429T000000Z
CATEGORIES:Agenda institucional
URL:https://www.canetdemar.cat/document.php?id=20096
END:VEVENT
END:VCALENDAR