BEGIN:VCALENDAR
VERSION:2.0
PRODID:-//Plone.org//NONSGML plone.app.event//EN
X-WR-TIMEZONE:Europe/Madrid
BEGIN:VEVENT
SUMMARY:Reunió interna de Comunicació
DTSTART;TZID=Europe/Madrid;VALUE=DATE-TIME:20200408T103000
DTEND;TZID=Europe/Madrid;VALUE=DATE-TIME:20200408T113000
DTSTAMP;VALUE=DATE-TIME:20260422T073400Z
UID:753f7b5e9012404bf0e1f04c73c7068c
CREATED;VALUE=DATE-TIME:20200408T000000Z
CATEGORIES:Agenda institucional
URL:https://www.canetdemar.cat/document.php?id=20093
END:VEVENT
END:VCALENDAR