BEGIN:VCALENDAR
VERSION:2.0
PRODID:-//Plone.org//NONSGML plone.app.event//EN
X-WR-TIMEZONE:Europe/Madrid
BEGIN:VEVENT
SUMMARY:Reunió de seguiment amb les àrees de Mobilitat, Sostenibilitat i Noves Tecnologies
DTSTART;TZID=Europe/Madrid;VALUE=DATE-TIME:20200429T100000
DTEND;TZID=Europe/Madrid;VALUE=DATE-TIME:20200429T110000
DTSTAMP;VALUE=DATE-TIME:20260422T235517Z
UID:9314bf3f8ebe71876c64958357e0c3bd
CREATED;VALUE=DATE-TIME:20200429T000000Z
CATEGORIES:Agenda institucional
URL:https://www.canetdemar.cat/document.php?id=20091
END:VEVENT
END:VCALENDAR