BEGIN:VCALENDAR
VERSION:2.0
PRODID:-//Plone.org//NONSGML plone.app.event//EN
X-WR-TIMEZONE:Europe/Madrid
BEGIN:VEVENT
SUMMARY:Reunió de seguiment amb les àrees de Mobilitat, Sostenibilitat i Noves Tecnologies
DTSTART;TZID=Europe/Madrid;VALUE=DATE-TIME:20200422T100000
DTEND;TZID=Europe/Madrid;VALUE=DATE-TIME:20200422T110000
DTSTAMP;VALUE=DATE-TIME:20260420T033044Z
UID:9d51fe37d3e8815fccb3f3dc4cd2e750
CREATED;VALUE=DATE-TIME:20200422T000000Z
CATEGORIES:Agenda institucional
URL:https://www.canetdemar.cat/document.php?id=20090
END:VEVENT
END:VCALENDAR