BEGIN:VCALENDAR
VERSION:2.0
PRODID:-//Plone.org//NONSGML plone.app.event//EN
X-WR-TIMEZONE:Europe/Madrid
BEGIN:VEVENT
SUMMARY:Reunió de segiment amb l'àrea de Promoció Econòmica
DTSTART;TZID=Europe/Madrid;VALUE=DATE-TIME:20200326T113000
DTEND;TZID=Europe/Madrid;VALUE=DATE-TIME:20200326T123000
DTSTAMP;VALUE=DATE-TIME:20260421T174627Z
UID:bd3895351edc33e0d3371ebc5fb551d9
CREATED;VALUE=DATE-TIME:20200326T000000Z
CATEGORIES:Agenda institucional
URL:https://www.canetdemar.cat/document.php?id=20026
END:VEVENT
END:VCALENDAR