BEGIN:VCALENDAR
VERSION:2.0
PRODID:-//Plone.org//NONSGML plone.app.event//EN
X-WR-TIMEZONE:Europe/Madrid
BEGIN:VEVENT
SUMMARY:Reunió de seguiment amb les àrees de sanitat i medi ambient
DTSTART;TZID=Europe/Madrid;VALUE=DATE-TIME:20200326T103000
DTEND;TZID=Europe/Madrid;VALUE=DATE-TIME:20200326T113000
DTSTAMP;VALUE=DATE-TIME:20260425T210955Z
UID:aaf6b433b387ad424214c54f68cf2468
CREATED;VALUE=DATE-TIME:20200326T000000Z
CATEGORIES:Agenda institucional
URL:https://www.canetdemar.cat/document.php?id=20025
END:VEVENT
END:VCALENDAR