BEGIN:VCALENDAR
VERSION:2.0
PRODID:-//Plone.org//NONSGML plone.app.event//EN
X-WR-TIMEZONE:Europe/Madrid
BEGIN:VEVENT
SUMMARY:Reunió de seguiment amb les àrees de cultura i hisenda
DTSTART;TZID=Europe/Madrid;VALUE=DATE-TIME:20200325T130000
DTEND;TZID=Europe/Madrid;VALUE=DATE-TIME:20200325T140000
DTSTAMP;VALUE=DATE-TIME:20260425T141644Z
UID:c2060ae0eee44644c08944c95eef4c59
CREATED;VALUE=DATE-TIME:20200325T000000Z
CATEGORIES:Agenda institucional
URL:https://www.canetdemar.cat/document.php?id=20024
END:VEVENT
END:VCALENDAR