BEGIN:VCALENDAR
VERSION:2.0
PRODID:-//Plone.org//NONSGML plone.app.event//EN
X-WR-TIMEZONE:Europe/Madrid
BEGIN:VEVENT
SUMMARY:Reunió del comitè d'emergència DUPROCIM davant la pandèmia pel COVID-19
DTSTART;TZID=Europe/Madrid;VALUE=DATE-TIME:20200327T120000
DTEND;TZID=Europe/Madrid;VALUE=DATE-TIME:20200327T130000
DTSTAMP;VALUE=DATE-TIME:20260424T231828Z
UID:9d5ac332b40e09c8c02bf4f57ec231bf
CREATED;VALUE=DATE-TIME:20200327T000000Z
CATEGORIES:Agenda institucional
URL:https://www.canetdemar.cat/document.php?id=20018
END:VEVENT
END:VCALENDAR