BEGIN:VCALENDAR
VERSION:2.0
PRODID:-//Plone.org//NONSGML plone.app.event//EN
X-WR-TIMEZONE:Europe/Madrid
BEGIN:VEVENT
SUMMARY:Reunió del comitè d'emergència DUPROCIM davant la pandèmia pel COVID-19
DTSTART;TZID=Europe/Madrid;VALUE=DATE-TIME:20200316T120000
DTEND;TZID=Europe/Madrid;VALUE=DATE-TIME:20200316T130000
DTSTAMP;VALUE=DATE-TIME:20260424T050235Z
UID:d07253dfe9cdb06916bfdb1c41e1f40a
CREATED;VALUE=DATE-TIME:20200316T000000Z
CATEGORIES:Agenda institucional
LOCATION:Videoconferència
URL:https://www.canetdemar.cat/document.php?id=20004
END:VEVENT
END:VCALENDAR