BEGIN:VCALENDAR
VERSION:2.0
PRODID:-//Plone.org//NONSGML plone.app.event//EN
X-WR-TIMEZONE:Europe/Madrid
BEGIN:VEVENT
SUMMARY:Reunió del comitè d'emergència DUPROCIM davant la pandèmia pel COVID-19
DTSTART;TZID=Europe/Madrid;VALUE=DATE-TIME:20200317T120000
DTEND;TZID=Europe/Madrid;VALUE=DATE-TIME:20200317T130000
DTSTAMP;VALUE=DATE-TIME:20260423T080723Z
UID:ffc563974ea16851329c12875618ed30
CREATED;VALUE=DATE-TIME:20200317T000000Z
CATEGORIES:Agenda institucional
LOCATION:Videoconferència
URL:https://www.canetdemar.cat/document.php?id=20003
END:VEVENT
END:VCALENDAR