BEGIN:VCALENDAR
VERSION:2.0
PRODID:-//Plone.org//NONSGML plone.app.event//EN
X-WR-TIMEZONE:Europe/Madrid
BEGIN:VEVENT
SUMMARY:Reunió de seguiment del Coronavirus
DTSTART;TZID=Europe/Madrid;VALUE=DATE-TIME:20200311T133000
DTEND;TZID=Europe/Madrid;VALUE=DATE-TIME:20200311T143000
DTSTAMP;VALUE=DATE-TIME:20260422T235447Z
UID:fee31feb98582f66698661974d1670b3
CREATED;VALUE=DATE-TIME:20200311T000000Z
CATEGORIES:Agenda institucional
LOCATION:Sala annexa Alcaldia
URL:https://www.canetdemar.cat/document.php?id=19981
END:VEVENT
END:VCALENDAR