BEGIN:VCALENDAR
VERSION:2.0
PRODID:-//Plone.org//NONSGML plone.app.event//EN
X-WR-TIMEZONE:Europe/Madrid
BEGIN:VEVENT
SUMMARY:Reunió de seguiment amb l'àrea de Promoció Econòmica
DTSTART;TZID=Europe/Madrid;VALUE=DATE-TIME:20200312T113000
DTEND;TZID=Europe/Madrid;VALUE=DATE-TIME:20200312T123000
DTSTAMP;VALUE=DATE-TIME:20260422T053725Z
UID:a3d3dfaa6f03154339e5905d32400bd0
CREATED;VALUE=DATE-TIME:20200312T000000Z
CATEGORIES:Agenda institucional
LOCATION:Sala annexa Alcaldia
URL:https://www.canetdemar.cat/document.php?id=19962
END:VEVENT
END:VCALENDAR