BEGIN:VCALENDAR
VERSION:2.0
PRODID:-//Plone.org//NONSGML plone.app.event//EN
X-WR-TIMEZONE:Europe/Madrid
BEGIN:VEVENT
SUMMARY:46è Concurs de teatre amateur 2020 - Premi Pedracastell: Busqueu-me un tenor! (anul·lat)
DTSTART;TZID=Europe/Madrid;VALUE=DATE-TIME:20200404T180000
DTEND;TZID=Europe/Madrid;VALUE=DATE-TIME:20200404T190000
DTSTAMP;VALUE=DATE-TIME:20260423T102137Z
UID:1651f44490f6328aba982c2a9113e630
CREATED;VALUE=DATE-TIME:20200404T000000Z
CATEGORIES:Teatre
LOCATION:Envelat de Vil·la Flora
ORGANIZER:El Centru
COMMENT:Preu: 5 euros, sòcis/es.  7 euros, no socis
DESCRIPTION:Grup Abraixas Teatre de Barcelona
URL:https://www.canetdemar.cat/document.php?id=19907
END:VEVENT
END:VCALENDAR