BEGIN:VCALENDAR
VERSION:2.0
PRODID:-//Plone.org//NONSGML plone.app.event//EN
X-WR-TIMEZONE:Europe/Madrid
BEGIN:VEVENT
SUMMARY:Autocura i Benestar per a mares i pares (anul·lat)
DTSTART;TZID=Europe/Madrid;VALUE=DATE-TIME:20200328T103000
DTEND;TZID=Europe/Madrid;VALUE=DATE-TIME:20200328T113000
DTSTAMP;VALUE=DATE-TIME:20260423T015811Z
UID:db68e72e55b971f36239132fbbfefffc
CREATED;VALUE=DATE-TIME:20200328T000000Z
LOCATION:Carrer Castañer 3
ORGANIZER:Nara
COMMENT:Preu: gratuït per a famílies sòcies. No socies 12 euros
Durada: de 10.30 a 12.45 hores
URL:https://www.canetdemar.cat/document.php?id=19900
END:VEVENT
END:VCALENDAR