BEGIN:VCALENDAR
VERSION:2.0
PRODID:-//Plone.org//NONSGML plone.app.event//EN
X-WR-TIMEZONE:Europe/Madrid
BEGIN:VEVENT
SUMMARY:Reunió interna de seguiment amb l'àrea de seguretat ciutadana
DTSTART;TZID=Europe/Madrid;VALUE=DATE-TIME:20200302T133000
DTEND;TZID=Europe/Madrid;VALUE=DATE-TIME:20200302T143000
DTSTAMP;VALUE=DATE-TIME:20260422T222903Z
UID:fec87ce646edea7ab325d6a26cb2a457
CREATED;VALUE=DATE-TIME:20200302T000000Z
CATEGORIES:Agenda institucional
LOCATION:Comissaria de Policia
URL:https://www.canetdemar.cat/document.php?id=19887
END:VEVENT
END:VCALENDAR