BEGIN:VCALENDAR
VERSION:2.0
PRODID:-//Plone.org//NONSGML plone.app.event//EN
X-WR-TIMEZONE:Europe/Madrid
BEGIN:VEVENT
SUMMARY:Mercat d'intercanvi i 2a mà (activitat suspesa)
DTSTART;TZID=Europe/Madrid;VALUE=DATE-TIME:20201213T100000
DTEND;TZID=Europe/Madrid;VALUE=DATE-TIME:20201213T110000
DTSTAMP;VALUE=DATE-TIME:20260424T171714Z
UID:01e6147b06c423e9b7b9bd2b18a2e495
CREATED;VALUE=DATE-TIME:20201213T000000Z
LOCATION:plaça Universitat
ORGANIZER:Àrea de Medi Ambient
COMMENT:Durada: de 10.00 a 14.00 hores
URL:https://www.canetdemar.cat/document.php?id=19881
END:VEVENT
END:VCALENDAR