BEGIN:VCALENDAR
VERSION:2.0
PRODID:-//Plone.org//NONSGML plone.app.event//EN
X-WR-TIMEZONE:Europe/Madrid
BEGIN:VEVENT
SUMMARY:Lectures per a adults: Cinc anys i uns dies
DTSTART;TZID=Europe/Madrid;VALUE=DATE-TIME:20060127T213000
DTEND;TZID=Europe/Madrid;VALUE=DATE-TIME:20060127T223000
DTSTAMP;VALUE=DATE-TIME:20260423T090205Z
UID:c56063f3c5e3c36fd2a0609eb5f58309
CREATED;VALUE=DATE-TIME:20060127T000000Z
URL:https://www.canetdemar.cat/document.php?id=1988
END:VEVENT
END:VCALENDAR