BEGIN:VCALENDAR
VERSION:2.0
PRODID:-//Plone.org//NONSGML plone.app.event//EN
X-WR-TIMEZONE:Europe/Madrid
BEGIN:VEVENT
SUMMARY:Portes obertes a l'Escola Fedac - Canet (Ajornat)
DTSTART;TZID=Europe/Madrid;VALUE=DATE-TIME:20200314T113000
DTEND;TZID=Europe/Madrid;VALUE=DATE-TIME:20200314T123000
DTSTAMP;VALUE=DATE-TIME:20260422T093207Z
UID:58f8a79bc053598d7fed8511d01bb199
CREATED;VALUE=DATE-TIME:20200314T000000Z
LOCATION:Escola Fedac - Canet
ORGANIZER:Escola Fedac - Canet
COMMENT:Durada: d'11.30 a les 13.30 hores
URL:https://www.canetdemar.cat/document.php?id=19846
END:VEVENT
END:VCALENDAR