BEGIN:VCALENDAR
VERSION:2.0
PRODID:-//Plone.org//NONSGML plone.app.event//EN
X-WR-TIMEZONE:Europe/Madrid
BEGIN:VEVENT
SUMMARY:Reunió de seguiment amb l'àrea de Promoció Econòmica
DTSTART;TZID=Europe/Madrid;VALUE=DATE-TIME:20200227T113000
DTEND;TZID=Europe/Madrid;VALUE=DATE-TIME:20200227T123000
DTSTAMP;VALUE=DATE-TIME:20260423T140525Z
UID:3d4a198beeba74c1c8451c220f3007c5
CREATED;VALUE=DATE-TIME:20200227T000000Z
CATEGORIES:Agenda institucional
LOCATION:Sala annexa Alcaldia
URL:https://www.canetdemar.cat/document.php?id=19820
END:VEVENT
END:VCALENDAR