BEGIN:VCALENDAR
VERSION:2.0
PRODID:-//Plone.org//NONSGML plone.app.event//EN
X-WR-TIMEZONE:Europe/Madrid
BEGIN:VEVENT
SUMMARY:Rua de Carnaval
DTSTART;TZID=Europe/Madrid;VALUE=DATE-TIME:20200222T180000
DTEND;TZID=Europe/Madrid;VALUE=DATE-TIME:20200222T190000
DTSTAMP;VALUE=DATE-TIME:20260422T203416Z
UID:467bf783388f0d5cec7d5b2780e29537
CREATED;VALUE=DATE-TIME:20200222T000000Z
CATEGORIES:Agenda institucional
LOCATION:Carrers de Canet de Mar
URL:https://www.canetdemar.cat/document.php?id=19808
END:VEVENT
END:VCALENDAR