BEGIN:VCALENDAR
VERSION:2.0
PRODID:-//Plone.org//NONSGML plone.app.event//EN
X-WR-TIMEZONE:Europe/Madrid
BEGIN:VEVENT
SUMMARY:Presentació del Pla d'Actuació Muncipal 2019-2023
DTSTART;TZID=Europe/Madrid;VALUE=DATE-TIME:20200213T190000
DTEND;TZID=Europe/Madrid;VALUE=DATE-TIME:20200213T200000
DTSTAMP;VALUE=DATE-TIME:20260423T102423Z
UID:f60f4478a1340d0a8a6951be27f22b49
CREATED;VALUE=DATE-TIME:20200213T000000Z
LOCATION:Aula Magna CRTTT - Escola de Teixits
ORGANIZER:Ajuntament de Canet de Mar
URL:https://www.canetdemar.cat/document.php?id=19768
END:VEVENT
END:VCALENDAR