BEGIN:VCALENDAR
VERSION:2.0
PRODID:-//Plone.org//NONSGML plone.app.event//EN
X-WR-TIMEZONE:Europe/Madrid
BEGIN:VEVENT
SUMMARY:Reunió de seguiment amb l'àrea de cultura
DTSTART;TZID=Europe/Madrid;VALUE=DATE-TIME:20200212T120000
DTEND;TZID=Europe/Madrid;VALUE=DATE-TIME:20200212T130000
DTSTAMP;VALUE=DATE-TIME:20260424T152903Z
UID:279d0876f58cee93c8364b30828c794c
CREATED;VALUE=DATE-TIME:20200212T000000Z
CATEGORIES:Agenda institucional
LOCATION:Sala annexa Alcaldia
URL:https://www.canetdemar.cat/document.php?id=19758
END:VEVENT
END:VCALENDAR