BEGIN:VCALENDAR
VERSION:2.0
PRODID:-//Plone.org//NONSGML plone.app.event//EN
X-WR-TIMEZONE:Europe/Madrid
BEGIN:VEVENT
SUMMARY:Trobada amb el comitè d'empresa
DTSTART;TZID=Europe/Madrid;VALUE=DATE-TIME:20200211T130000
DTEND;TZID=Europe/Madrid;VALUE=DATE-TIME:20200211T140000
DTSTAMP;VALUE=DATE-TIME:20260424T202821Z
UID:c63c97f8e6a9af49c8b251c51a316ec6
CREATED;VALUE=DATE-TIME:20200211T000000Z
CATEGORIES:Agenda institucional
LOCATION:Sala annexa Alcaldia
URL:https://www.canetdemar.cat/document.php?id=19754
END:VEVENT
END:VCALENDAR