BEGIN:VCALENDAR
VERSION:2.0
PRODID:-//Plone.org//NONSGML plone.app.event//EN
X-WR-TIMEZONE:Europe/Madrid
BEGIN:VEVENT
SUMMARY:Reunió de seguiment amb les àrees de Mobilitat, Sostenibilitat i Noves tecnologies
DTSTART;TZID=Europe/Madrid;VALUE=DATE-TIME:20200210T110000
DTEND;TZID=Europe/Madrid;VALUE=DATE-TIME:20200210T120000
DTSTAMP;VALUE=DATE-TIME:20260425T194007Z
UID:03f4d0242658654417a9ad23714e5f50
CREATED;VALUE=DATE-TIME:20200210T000000Z
CATEGORIES:Agenda institucional
LOCATION:Sala annexa Alcaldia
URL:https://www.canetdemar.cat/document.php?id=19748
END:VEVENT
END:VCALENDAR