BEGIN:VCALENDAR
VERSION:2.0
PRODID:-//Plone.org//NONSGML plone.app.event//EN
X-WR-TIMEZONE:Europe/Madrid
BEGIN:VEVENT
SUMMARY:Ball i animació infantil de Carnaval
DTSTART;TZID=Europe/Madrid;VALUE=DATE-TIME:20200223T180000
DTEND;TZID=Europe/Madrid;VALUE=DATE-TIME:20200223T190000
DTSTAMP;VALUE=DATE-TIME:20260424T163018Z
UID:0ffa686210d95f47c1c4ff9626ff306e
CREATED;VALUE=DATE-TIME:20200223T000000Z
LOCATION:Envelat de Vil·la Flora
ORGANIZER:Àrea de Festes
URL:https://www.canetdemar.cat/document.php?id=19735
END:VEVENT
END:VCALENDAR