BEGIN:VCALENDAR
VERSION:2.0
PRODID:-//Plone.org//NONSGML plone.app.event//EN
X-WR-TIMEZONE:Europe/Madrid
BEGIN:VEVENT
SUMMARY:Reunió representació de la Policia Local
DTSTART;TZID=Europe/Madrid;VALUE=DATE-TIME:20200207T110000
DTEND;TZID=Europe/Madrid;VALUE=DATE-TIME:20200207T120000
DTSTAMP;VALUE=DATE-TIME:20260424T041648Z
UID:744f6c0bd978b88397f7de42b64b47e8
CREATED;VALUE=DATE-TIME:20200207T000000Z
CATEGORIES:Agenda institucional
LOCATION:Sala annexa Alcaldia
URL:https://www.canetdemar.cat/document.php?id=19727
END:VEVENT
END:VCALENDAR